BEGIN:VCALENDAR
VERSION:2.0
PRODID:-//hacksw/handcal//NONSGML v1.0//EN
BEGIN:VEVENT
SUMMARY:Competition Benjamin/Junior Sete
UID:8db64abf-d5a6-4002-9281-f881b2f8071a
DTSTART:20260321T230000Z
DTEND:20260322T230000Z
LOCATION:Localisation   
CATEGORIES:Sportif
STATUS:
URL;VALUE=URI:https://ascbnatation.sportsregions.fr/evenements/2026/03/22/competition-benjaminjunior-sete-2433757
END:VEVENT
END:VCALENDAR
